BEGIN:VCALENDAR
VERSION:2.0
PRODID:-//Bryan Park Mens Golf Association - ECPv5.16.4//NONSGML v1.0//EN
CALSCALE:GREGORIAN
METHOD:PUBLISH
X-WR-CALNAME:Bryan Park Mens Golf Association
X-ORIGINAL-URL:https://bpmga.com
X-WR-CALDESC:Events for Bryan Park Mens Golf Association
REFRESH-INTERVAL;VALUE=DURATION:PT1H
X-Robots-Tag:noindex
X-PUBLISHED-TTL:PT1H
BEGIN:VTIMEZONE
TZID:America/New_York
BEGIN:DAYLIGHT
TZOFFSETFROM:-0500
TZOFFSETTO:-0400
TZNAME:EDT
DTSTART:20200308T070000
END:DAYLIGHT
BEGIN:STANDARD
TZOFFSETFROM:-0400
TZOFFSETTO:-0500
TZNAME:EST
DTSTART:20201101T060000
END:STANDARD
BEGIN:DAYLIGHT
TZOFFSETFROM:-0500
TZOFFSETTO:-0400
TZNAME:EDT
DTSTART:20210314T070000
END:DAYLIGHT
BEGIN:STANDARD
TZOFFSETFROM:-0400
TZOFFSETTO:-0500
TZNAME:EST
DTSTART:20211107T060000
END:STANDARD
BEGIN:DAYLIGHT
TZOFFSETFROM:-0500
TZOFFSETTO:-0400
TZNAME:EDT
DTSTART:20220313T070000
END:DAYLIGHT
BEGIN:STANDARD
TZOFFSETFROM:-0400
TZOFFSETTO:-0500
TZNAME:EST
DTSTART:20221106T060000
END:STANDARD
END:VTIMEZONE
BEGIN:VEVENT
DTSTART;TZID=America/New_York:20220917T000000
DTEND;TZID=America/New_York:20220918T235959
DTSTAMP:20260421T002628
CREATED:20220103T131631Z
LAST-MODIFIED:20220822T144130Z
UID:374-1663372800-1663545599@bpmga.com
SUMMARY:Member - Member
DESCRIPTION:
URL:https://bpmga.com/event/2022-member-member/
CATEGORIES:Major
END:VEVENT
BEGIN:VEVENT
DTSTART;TZID=America/New_York:20220723T000000
DTEND;TZID=America/New_York:20220724T235959
DTSTAMP:20260421T002628
CREATED:20220103T131455Z
LAST-MODIFIED:20220701T114033Z
UID:370-1658534400-1658707199@bpmga.com
SUMMARY:Club Championship
DESCRIPTION:
URL:https://bpmga.com/event/2022-club-championship/
CATEGORIES:Major
END:VEVENT
BEGIN:VEVENT
DTSTART;TZID=America/New_York:20220521T000000
DTEND;TZID=America/New_York:20220522T235959
DTSTAMP:20260421T002628
CREATED:20220103T131244Z
LAST-MODIFIED:20220425T153034Z
UID:366-1653091200-1653263999@bpmga.com
SUMMARY:Member - Guest
DESCRIPTION:
URL:https://bpmga.com/event/2022-member-guest/
LOCATION:The Players Course at Bryan Park\, 6275 Bryan Park Road\, Greensboro\, NC\, 27214\, United States
CATEGORIES:Major
END:VEVENT
BEGIN:VEVENT
DTSTART;TZID=America/New_York:20210918T000000
DTEND;TZID=America/New_York:20210919T235959
DTSTAMP:20260421T002628
CREATED:20201231T204926Z
LAST-MODIFIED:20210809T195305Z
UID:270-1631923200-1632095999@bpmga.com
SUMMARY:Member - Member
DESCRIPTION:
URL:https://bpmga.com/event/member-member/
LOCATION:The Champions Course at Bryan Park\, 6275 Bryan Park Road\, Greensboro\, NC\, 27214\, United States
CATEGORIES:Major
END:VEVENT
BEGIN:VEVENT
DTSTART;TZID=America/New_York:20210724T000000
DTEND;TZID=America/New_York:20210725T235959
DTSTAMP:20260421T002628
CREATED:20201231T203916Z
LAST-MODIFIED:20210621T121854Z
UID:266-1627084800-1627257599@bpmga.com
SUMMARY:Club Championship
DESCRIPTION:
URL:https://bpmga.com/event/club-championship/
LOCATION:The Champions Course at Bryan Park\, 6275 Bryan Park Road\, Greensboro\, NC\, 27214\, United States
CATEGORIES:Major
END:VEVENT
BEGIN:VEVENT
DTSTART;TZID=America/New_York:20210515T000000
DTEND;TZID=America/New_York:20210516T235959
DTSTAMP:20260421T002628
CREATED:20201231T203112Z
LAST-MODIFIED:20210510T125858Z
UID:261-1621036800-1621209599@bpmga.com
SUMMARY:2021 Member - Guest
DESCRIPTION:Event Details\n\n\n\nThe 2021 Member – Guest will be held in May this year.  \n\n\n\nThe entry fee is $125.00 per team.   \n\n\n\nWe will have a 9:00 am shotgun start with a table set up to collect skins ($10/man both days\, must get in both days) and 50/50 ($5 dollars a ticket\, buy as many as you want on Saturday only. \n\n\n\nSaturday Food: We will have a barbecue buffet on Saturday at the conference centerBeer keg will be on the course each day and at the conference center. \n\n\n\nSunday Food: At the turn\, each player will give his name at the grill and have a choice of hot dog/sandwich\, chips\, soda. \n\n\n\n\n\n\n\nRegistration\n\n\n\nUse the form below to register for the tournament. If your partner doesn’t have a handicap or GHIN\, please enter their average round score in the comments.
URL:https://bpmga.com/event/2021-member-guest/
LOCATION:The Players Course at Bryan Park\, 6275 Bryan Park Road\, Greensboro\, NC\, 27214\, United States
CATEGORIES:Major
END:VEVENT
BEGIN:VEVENT
DTSTART;TZID=America/New_York:20200926T000000
DTEND;TZID=America/New_York:20200927T235959
DTSTAMP:20260421T002628
CREATED:20200507T024741Z
LAST-MODIFIED:20200925T131831Z
UID:65-1601078400-1601251199@bpmga.com
SUMMARY:2020 Member - Guest
DESCRIPTION:Event Details\n\n\n\nThe 2020 Member – Guest will be held in September this year.  Shotgun Start at 9:00 AM both days. Due to the number of players\, and COVID restrictions\, we will be sending out an email with the tee times.   \n\n\n\nThe entry fee is $125.00 per team.  This includes 50/50 tickets for both team members and enters both team members into the skins game.  \n\n\n\nThings are still changing due to COVID. Please make sure you are on our email lists for updates on tournament status. We will also post updates to the website if anything changes. \n\n\n\n\n\n\n\nRegistration\n\n\n\nUse the form below to register for the tournament. If your partner doesn’t have a handicap or GHIN\, please enter their average round score in the comments.
URL:https://bpmga.com/event/2020-member-guest/
LOCATION:The Players Course at Bryan Park\, 6275 Bryan Park Road\, Greensboro\, NC\, 27214\, United States
CATEGORIES:Major
END:VEVENT
BEGIN:VEVENT
DTSTART;TZID=America/New_York:20200801T000000
DTEND;TZID=America/New_York:20200802T235959
DTSTAMP:20260421T002628
CREATED:20200507T024600Z
LAST-MODIFIED:20220310T132438Z
UID:63-1596240000-1596412799@bpmga.com
SUMMARY:2020 Club Championship
DESCRIPTION:Event Details\n\n\n\nThe Annual Club Championship will be played on both the players and champions courses over the weekend. This will be a flighted tournament and you can play from either the white or gold tees however\, Club Champion will be determined from the white tees.   \n\n\n\nThe entry fee is $50.00 per player due when checking in at the Pro Shop. This includes skins and 50/50 for both days. Registration ends on Wednesday\, July 29th. \n\n\n\nThings are still changing due to COVID. Please make sure you are on our email lists for updates on tournament status.  We will also post updates to the website if anything changes. \n\n\n\n\n\n\n\nRegistration
URL:https://bpmga.com/event/2020-club-championship-day-1/
LOCATION:The Players Course at Bryan Park\, 6275 Bryan Park Road\, Greensboro\, NC\, 27214\, United States
CATEGORIES:Major
END:VEVENT
BEGIN:VEVENT
DTSTART;VALUE=DATE:20200620
DTEND;VALUE=DATE:20200621
DTSTAMP:20260421T002629
CREATED:20200507T022308Z
LAST-MODIFIED:20200616T125758Z
UID:47-1592611200-1592697599@bpmga.com
SUMMARY:The 2020 Member - Member
DESCRIPTION:June 20th\, 2020\n\n\n\n$50 per team on the Players Course \n\n\n\n\n\n\nDue to the current circumstances\, the Member-Member will be a one day\, flighted event this year. We are having to make some adjustments to our process to abide by the current state requirements: \n\n\n\nThe entry fee is $50 per team.  This includes skins and 50/50 for each player.Unfortunately\, no food will be provided after the tournament.Entry Cutoff is Noon on Wednesday\, June 17th.Individual tee times will be emailed out by Thursday evening.Please arrive at Bryan Park no more than 30 minutes before your tee time.Results will be emailed out as quickly as we can get the results calculated and sent (hopefully the same day).\n\n\n\nBe sure to check back regularly and feel free to contact us with any questions you might have about the new process.
URL:https://bpmga.com/event/2020-member-member/
LOCATION:The Players Course at Bryan Park\, 6275 Bryan Park Road\, Greensboro\, NC\, 27214\, United States
CATEGORIES:Major
ATTACH;FMTTYPE=image/jpeg:https://bpmga.com/wp-content/uploads/2020/05/green.jpeg
END:VEVENT
END:VCALENDAR